BEGIN:VCALENDAR
VERSION:2.0
PRODID:-//Hermandad de Nuestra Señora del Sol - ECPv6.15.17.1//NONSGML v1.0//EN
CALSCALE:GREGORIAN
METHOD:PUBLISH
X-ORIGINAL-URL:https://hermandaddelsol.org
X-WR-CALDESC:Eventos para Hermandad de Nuestra Señora del Sol
REFRESH-INTERVAL;VALUE=DURATION:PT1H
X-Robots-Tag:noindex
X-PUBLISHED-TTL:PT1H
BEGIN:VTIMEZONE
TZID:Europe/Madrid
BEGIN:DAYLIGHT
TZOFFSETFROM:+0100
TZOFFSETTO:+0200
TZNAME:CEST
DTSTART:20200329T010000
END:DAYLIGHT
BEGIN:STANDARD
TZOFFSETFROM:+0200
TZOFFSETTO:+0100
TZNAME:CET
DTSTART:20201025T010000
END:STANDARD
BEGIN:DAYLIGHT
TZOFFSETFROM:+0100
TZOFFSETTO:+0200
TZNAME:CEST
DTSTART:20210328T010000
END:DAYLIGHT
BEGIN:STANDARD
TZOFFSETFROM:+0200
TZOFFSETTO:+0100
TZNAME:CET
DTSTART:20211031T010000
END:STANDARD
BEGIN:DAYLIGHT
TZOFFSETFROM:+0100
TZOFFSETTO:+0200
TZNAME:CEST
DTSTART:20220327T010000
END:DAYLIGHT
BEGIN:STANDARD
TZOFFSETFROM:+0200
TZOFFSETTO:+0100
TZNAME:CET
DTSTART:20221030T010000
END:STANDARD
END:VTIMEZONE
BEGIN:VEVENT
DTSTART;TZID=Europe/Madrid:20210308T180000
DTEND;TZID=Europe/Madrid:20210312T200000
DTSTAMP:20260425T212522
CREATED:20210308T233047Z
LAST-MODIFIED:20210308T233047Z
UID:2786-1615226400-1615579200@hermandaddelsol.org
SUMMARY:Exposición del Censo Electoral 2021
DESCRIPTION:Exposición Censo Electoral desde el 6 de Marzo hasta el 4 de Abril de 2021\nPREVIA SOLICITUD DE CITA A TRAVÉS DEL CORREO ELECTRÓNICO : \nmayordomia@hermandaddelsol.org \nLas citas serán de lunes a viernes de 18 a 20 horas. \nEn la Secretaria de La Capilla Sacramental Nuestra Señora del Sol
URL:https://hermandaddelsol.org/actos/exposicion-del-censo-electoral-2021/
LOCATION:Capilla de la Hermandad del Sol\, Pza. ALJARAFE S/N\, SEVILLA\, Sevilla\, 41005\, España
CATEGORIES:Elecciones,Trámites
ATTACH;FMTTYPE=image/png:https://hermandaddelsol.org/wp-content/uploads/Portada-NOTICIAS-Sol.png
END:VEVENT
BEGIN:VEVENT
DTSTART;TZID=Europe/Madrid:20210315T180000
DTEND;TZID=Europe/Madrid:20210319T200000
DTSTAMP:20260425T212522
CREATED:20210308T233402Z
LAST-MODIFIED:20210308T233526Z
UID:2790-1615831200-1616184000@hermandaddelsol.org
SUMMARY:Exposición del Censo Electoral 2021
DESCRIPTION:Exposición Censo Electoral desde el 6 de Marzo hasta el 4 de Abril de 2021\nPREVIA SOLICITUD DE CITA A TRAVÉS DEL CORREO ELECTRÓNICO : \nmayordomia@hermandaddelsol.org \nLas citas serán de lunes a viernes de 18 a 20 horas. \nEn la Secretaria de La Capilla Sacramental Nuestra Señora del Sol
URL:https://hermandaddelsol.org/actos/exposicion-del-censo-electoral-2021-2/
LOCATION:Capilla de la Hermandad del Sol\, Pza. ALJARAFE S/N\, SEVILLA\, Sevilla\, 41005\, España
CATEGORIES:Elecciones,Trámites
ATTACH;FMTTYPE=image/png:https://hermandaddelsol.org/wp-content/uploads/Portada-NOTICIAS-Sol.png
END:VEVENT
BEGIN:VEVENT
DTSTART;TZID=Europe/Madrid:20210322T180000
DTEND;TZID=Europe/Madrid:20210326T200000
DTSTAMP:20260425T212522
CREATED:20210308T233724Z
LAST-MODIFIED:20210308T233724Z
UID:2793-1616436000-1616788800@hermandaddelsol.org
SUMMARY:Exposición del Censo Electoral 2021
DESCRIPTION:Exposición Censo Electoral desde el 6 de Marzo hasta el 4 de Abril de 2021\nPREVIA SOLICITUD DE CITA A TRAVÉS DEL CORREO ELECTRÓNICO : \nmayordomia@hermandaddelsol.org \nLas citas serán de lunes a viernes de 18 a 20 horas. \nEn la Secretaria de La Capilla Sacramental Nuestra Señora del Sol
URL:https://hermandaddelsol.org/actos/exposicion-del-censo-electoral-2021-3/
LOCATION:Capilla de la Hermandad del Sol\, Pza. ALJARAFE S/N\, SEVILLA\, Sevilla\, 41005\, España
CATEGORIES:Elecciones,Trámites
ATTACH;FMTTYPE=image/png:https://hermandaddelsol.org/wp-content/uploads/Portada-NOTICIAS-Sol.png
END:VEVENT
BEGIN:VEVENT
DTSTART;TZID=Europe/Madrid:20210329T180000
DTEND;TZID=Europe/Madrid:20210331T200000
DTSTAMP:20260425T212522
CREATED:20210308T234019Z
LAST-MODIFIED:20210308T234019Z
UID:2796-1617040800-1617220800@hermandaddelsol.org
SUMMARY:Exposición del Censo Electoral 2021
DESCRIPTION:Exposición Censo Electoral desde el 6 de Marzo hasta el 4 de Abril de 2021\nPREVIA SOLICITUD DE CITA A TRAVÉS DEL CORREO ELECTRÓNICO : \nmayordomia@hermandaddelsol.org \nLas citas serán de lunes a viernes de 18 a 20 horas. \nEn la Secretaria de La Capilla Sacramental Nuestra Señora del Sol
URL:https://hermandaddelsol.org/actos/exposicion-del-censo-electoral-2021-4/
LOCATION:Capilla de la Hermandad del Sol\, Pza. ALJARAFE S/N\, SEVILLA\, Sevilla\, 41005\, España
CATEGORIES:Elecciones,Trámites
ATTACH;FMTTYPE=image/png:https://hermandaddelsol.org/wp-content/uploads/Portada-NOTICIAS-Sol.png
END:VEVENT
END:VCALENDAR